BEGIN:VCALENDAR
VERSION:2.0
PRODID:-//LEO Inc. - ECPv6.15.20//NONSGML v1.0//EN
CALSCALE:GREGORIAN
METHOD:PUBLISH
X-WR-CALNAME:LEO Inc.
X-ORIGINAL-URL:https://leoinc.org
X-WR-CALDESC:Events for LEO Inc.
REFRESH-INTERVAL;VALUE=DURATION:PT1H
X-Robots-Tag:noindex
X-PUBLISHED-TTL:PT1H
BEGIN:VTIMEZONE
TZID:America/New_York
BEGIN:DAYLIGHT
TZOFFSETFROM:-0500
TZOFFSETTO:-0400
TZNAME:EDT
DTSTART:20230312T070000
END:DAYLIGHT
BEGIN:STANDARD
TZOFFSETFROM:-0400
TZOFFSETTO:-0500
TZNAME:EST
DTSTART:20231105T060000
END:STANDARD
BEGIN:DAYLIGHT
TZOFFSETFROM:-0500
TZOFFSETTO:-0400
TZNAME:EDT
DTSTART:20240310T070000
END:DAYLIGHT
BEGIN:STANDARD
TZOFFSETFROM:-0400
TZOFFSETTO:-0500
TZNAME:EST
DTSTART:20241103T060000
END:STANDARD
BEGIN:DAYLIGHT
TZOFFSETFROM:-0500
TZOFFSETTO:-0400
TZNAME:EDT
DTSTART:20250309T070000
END:DAYLIGHT
BEGIN:STANDARD
TZOFFSETFROM:-0400
TZOFFSETTO:-0500
TZNAME:EST
DTSTART:20251102T060000
END:STANDARD
END:VTIMEZONE
BEGIN:VEVENT
DTSTART;TZID=America/New_York:20240403T093000
DTEND;TZID=America/New_York:20240403T113000
DTSTAMP:20260420T065726
CREATED:20231107T214638Z
LAST-MODIFIED:20231107T214638Z
UID:10000090-1712136600-1712143800@leoinc.org
SUMMARY:Home Energy Assistance Outreach/Wakefield Senior Center
DESCRIPTION:Come by and see us. Get some information on our programs\, bring your paperwork\, let us walk you through the process!
URL:https://leoinc.org/event/home-energy-assistance-outreach-wakefield-senior-center/2024-04-03/
ATTACH;FMTTYPE=image/jpeg:https://leoinc.org/wp-content/uploads/2023/09/CLAIRE-DUBE.jpg
END:VEVENT
BEGIN:VEVENT
DTSTART;TZID=America/New_York:20240417T093000
DTEND;TZID=America/New_York:20240417T113000
DTSTAMP:20260420T065726
CREATED:20231107T214638Z
LAST-MODIFIED:20231107T214638Z
UID:10000091-1713346200-1713353400@leoinc.org
SUMMARY:Home Energy Assistance Outreach/Wakefield Senior Center
DESCRIPTION:Come by and see us. Get some information on our programs\, bring your paperwork\, let us walk you through the process!
URL:https://leoinc.org/event/home-energy-assistance-outreach-wakefield-senior-center/2024-04-17/
ATTACH;FMTTYPE=image/jpeg:https://leoinc.org/wp-content/uploads/2023/09/CLAIRE-DUBE.jpg
END:VEVENT
BEGIN:VEVENT
DTSTART;TZID=America/New_York:20240417T170000
DTEND;TZID=America/New_York:20240417T183000
DTSTAMP:20260420T065726
CREATED:20231204T180614Z
LAST-MODIFIED:20231204T180614Z
UID:10000095-1713373200-1713378600@leoinc.org
SUMMARY:Board of Directors Meeting 5:00-6:30 pm
DESCRIPTION:Please register with Diann\, diannl@leoinc.org for details on how to join or attend. Thank you!
URL:https://leoinc.org/event/board-of-directors-meeting-500-630-pm/2024-04-17/
ATTACH;FMTTYPE=image/png:https://leoinc.org/wp-content/uploads/2019/12/BoardofDirectors-Table.png
END:VEVENT
BEGIN:VEVENT
DTSTART;TZID=America/New_York:20240425T180000
DTEND;TZID=America/New_York:20240425T210000
DTSTAMP:20260420T065726
CREATED:20240304T202623Z
LAST-MODIFIED:20240305T191027Z
UID:10000104-1714068000-1714078800@leoinc.org
SUMMARY:2nd Annual LEO Inc. Bowling Bonanza!
DESCRIPTION:Tickets are ON SALE NOW for our 2nd Annual Bowling Bonanza! \nThis event is more FUNraiser than fundraiser! \nUse the QR code\, or this link to the ticket site: 2ndAnnualLEOIncBowlingBonanza.eventbrite.com \nProceeds from our event allow the children and families of the Greater Lynn area to improve their quality of life in order to thrive. \n#togetherwecan #StrikeOutPoverty
URL:https://leoinc.org/event/2nd-annual-leo-inc-bowling-bonanza/
ATTACH;FMTTYPE=image/png:https://leoinc.org/wp-content/uploads/2024/03/FIRST-ANNUAL-LEO-INC.-Bowling-BONANZA-Instagram-Post.png
END:VEVENT
END:VCALENDAR