BEGIN:VCALENDAR
VERSION:2.0
PRODID:-//LEO Inc. - ECPv6.15.20//NONSGML v1.0//EN
CALSCALE:GREGORIAN
METHOD:PUBLISH
X-WR-CALNAME:LEO Inc.
X-ORIGINAL-URL:https://leoinc.org
X-WR-CALDESC:Events for LEO Inc.
REFRESH-INTERVAL;VALUE=DURATION:PT1H
X-Robots-Tag:noindex
X-PUBLISHED-TTL:PT1H
BEGIN:VTIMEZONE
TZID:America/New_York
BEGIN:DAYLIGHT
TZOFFSETFROM:-0500
TZOFFSETTO:-0400
TZNAME:EDT
DTSTART:20220313T070000
END:DAYLIGHT
BEGIN:STANDARD
TZOFFSETFROM:-0400
TZOFFSETTO:-0500
TZNAME:EST
DTSTART:20221106T060000
END:STANDARD
BEGIN:DAYLIGHT
TZOFFSETFROM:-0500
TZOFFSETTO:-0400
TZNAME:EDT
DTSTART:20230312T070000
END:DAYLIGHT
BEGIN:STANDARD
TZOFFSETFROM:-0400
TZOFFSETTO:-0500
TZNAME:EST
DTSTART:20231105T060000
END:STANDARD
BEGIN:DAYLIGHT
TZOFFSETFROM:-0500
TZOFFSETTO:-0400
TZNAME:EDT
DTSTART:20240310T070000
END:DAYLIGHT
BEGIN:STANDARD
TZOFFSETFROM:-0400
TZOFFSETTO:-0500
TZNAME:EST
DTSTART:20241103T060000
END:STANDARD
END:VTIMEZONE
BEGIN:VEVENT
DTSTART;TZID=America/New_York:20231211T093000
DTEND;TZID=America/New_York:20231211T113000
DTSTAMP:20260421T111109
CREATED:20231107T212247Z
LAST-MODIFIED:20231107T212359Z
UID:10000078-1702287000-1702294200@leoinc.org
SUMMARY:Home Energy Outreach/Swampscott Senior Center
DESCRIPTION:Come by and see us. Get some information on our programs\, bring your paperwork\, let us walk you through the process!
URL:https://leoinc.org/event/home-energy-outreach-swampscott-senior-center/2023-12-11/
ATTACH;FMTTYPE=image/jpeg:https://leoinc.org/wp-content/uploads/2023/09/CLAIRE-DUBE.jpg
END:VEVENT
BEGIN:VEVENT
DTSTART;TZID=America/New_York:20231212T093000
DTEND;TZID=America/New_York:20231212T113000
DTSTAMP:20260421T111109
CREATED:20231107T203756Z
LAST-MODIFIED:20231107T204542Z
UID:10000073-1702373400-1702380600@leoinc.org
SUMMARY:Home Energy Assistance Outreach/Saugus Senior Center
DESCRIPTION:Come by and see us. Get some information on our programs\, bring your paperwork\, let us walk you through the process!
URL:https://leoinc.org/event/home-energy-assistance-outreach-saugus-senior-center/2023-12-12/
ATTACH;FMTTYPE=image/jpeg:https://leoinc.org/wp-content/uploads/2023/09/CLAIRE-DUBE.jpg
END:VEVENT
BEGIN:VEVENT
DTSTART;TZID=America/New_York:20231213T093000
DTEND;TZID=America/New_York:20231213T113000
DTSTAMP:20260421T111109
CREATED:20231107T214638Z
LAST-MODIFIED:20231107T214638Z
UID:10000082-1702459800-1702467000@leoinc.org
SUMMARY:Home Energy Assistance Outreach/Wakefield Senior Center
DESCRIPTION:Come by and see us. Get some information on our programs\, bring your paperwork\, let us walk you through the process!
URL:https://leoinc.org/event/home-energy-assistance-outreach-wakefield-senior-center/2023-12-13/
ATTACH;FMTTYPE=image/jpeg:https://leoinc.org/wp-content/uploads/2023/09/CLAIRE-DUBE.jpg
END:VEVENT
BEGIN:VEVENT
DTSTART;TZID=America/New_York:20231220T170000
DTEND;TZID=America/New_York:20231220T183000
DTSTAMP:20260421T111109
CREATED:20211119T182540Z
LAST-MODIFIED:20221207T203549Z
UID:10000012-1703091600-1703097000@leoinc.org
SUMMARY:Board of Directors Meeting
DESCRIPTION:Please register with Diann\, diannl@leoinc.org for details on how to join or attend. Thank you!
URL:https://leoinc.org/event/board-of-directors-meeting-15-2023-01-18/2023-12-20/
ATTACH;FMTTYPE=image/jpeg:https://leoinc.org/wp-content/uploads/2021/11/Board-meeting-1080x675-1.jpg
END:VEVENT
BEGIN:VEVENT
DTSTART;TZID=America/New_York:20231226T093000
DTEND;TZID=America/New_York:20231226T113000
DTSTAMP:20260421T111109
CREATED:20231107T203756Z
LAST-MODIFIED:20231107T204542Z
UID:10000074-1703583000-1703590200@leoinc.org
SUMMARY:Home Energy Assistance Outreach/Saugus Senior Center
DESCRIPTION:Come by and see us. Get some information on our programs\, bring your paperwork\, let us walk you through the process!
URL:https://leoinc.org/event/home-energy-assistance-outreach-saugus-senior-center/2023-12-26/
ATTACH;FMTTYPE=image/jpeg:https://leoinc.org/wp-content/uploads/2023/09/CLAIRE-DUBE.jpg
END:VEVENT
BEGIN:VEVENT
DTSTART;TZID=America/New_York:20231227T093000
DTEND;TZID=America/New_York:20231227T113000
DTSTAMP:20260421T111109
CREATED:20231107T214638Z
LAST-MODIFIED:20231107T214638Z
UID:10000083-1703669400-1703676600@leoinc.org
SUMMARY:Home Energy Assistance Outreach/Wakefield Senior Center
DESCRIPTION:Come by and see us. Get some information on our programs\, bring your paperwork\, let us walk you through the process!
URL:https://leoinc.org/event/home-energy-assistance-outreach-wakefield-senior-center/2023-12-27/
ATTACH;FMTTYPE=image/jpeg:https://leoinc.org/wp-content/uploads/2023/09/CLAIRE-DUBE.jpg
END:VEVENT
END:VCALENDAR