BEGIN:VCALENDAR
VERSION:2.0
PRODID:-//LEO Inc. - ECPv6.15.20//NONSGML v1.0//EN
CALSCALE:GREGORIAN
METHOD:PUBLISH
X-WR-CALNAME:LEO Inc.
X-ORIGINAL-URL:https://leoinc.org
X-WR-CALDESC:Events for LEO Inc.
REFRESH-INTERVAL;VALUE=DURATION:PT1H
X-Robots-Tag:noindex
X-PUBLISHED-TTL:PT1H
BEGIN:VTIMEZONE
TZID:America/New_York
BEGIN:DAYLIGHT
TZOFFSETFROM:-0500
TZOFFSETTO:-0400
TZNAME:EDT
DTSTART:20220313T070000
END:DAYLIGHT
BEGIN:STANDARD
TZOFFSETFROM:-0400
TZOFFSETTO:-0500
TZNAME:EST
DTSTART:20221106T060000
END:STANDARD
BEGIN:DAYLIGHT
TZOFFSETFROM:-0500
TZOFFSETTO:-0400
TZNAME:EDT
DTSTART:20230312T070000
END:DAYLIGHT
BEGIN:STANDARD
TZOFFSETFROM:-0400
TZOFFSETTO:-0500
TZNAME:EST
DTSTART:20231105T060000
END:STANDARD
BEGIN:DAYLIGHT
TZOFFSETFROM:-0500
TZOFFSETTO:-0400
TZNAME:EDT
DTSTART:20240310T070000
END:DAYLIGHT
BEGIN:STANDARD
TZOFFSETFROM:-0400
TZOFFSETTO:-0500
TZNAME:EST
DTSTART:20241103T060000
END:STANDARD
END:VTIMEZONE
BEGIN:VEVENT
DTSTART;TZID=America/New_York:20231109T093000
DTEND;TZID=America/New_York:20231109T113000
DTSTAMP:20260421T130211
CREATED:20231107T213402Z
LAST-MODIFIED:20231107T213402Z
UID:10000079-1699522200-1699529400@leoinc.org
SUMMARY:Home Energy Assistance Outreach/Nahant Senior Center
DESCRIPTION:Come by and see us. Get some information on our programs\, bring your paperwork\, let us walk you through the process!
URL:https://leoinc.org/event/home-energy-assistance-outreach-nahant-senior-center/
ATTACH;FMTTYPE=image/jpeg:https://leoinc.org/wp-content/uploads/2023/09/CLAIRE-DUBE.jpg
END:VEVENT
BEGIN:VEVENT
DTSTART;TZID=America/New_York:20231113T093000
DTEND;TZID=America/New_York:20231113T113000
DTSTAMP:20260421T130211
CREATED:20231107T212247Z
LAST-MODIFIED:20231107T212359Z
UID:10000076-1699867800-1699875000@leoinc.org
SUMMARY:Home Energy Outreach/Swampscott Senior Center
DESCRIPTION:Come by and see us. Get some information on our programs\, bring your paperwork\, let us walk you through the process!
URL:https://leoinc.org/event/home-energy-outreach-swampscott-senior-center/2023-11-13/
ATTACH;FMTTYPE=image/jpeg:https://leoinc.org/wp-content/uploads/2023/09/CLAIRE-DUBE.jpg
END:VEVENT
BEGIN:VEVENT
DTSTART;TZID=America/New_York:20231114T093000
DTEND;TZID=America/New_York:20231114T113000
DTSTAMP:20260421T130211
CREATED:20231107T203756Z
LAST-MODIFIED:20231107T204542Z
UID:10000071-1699954200-1699961400@leoinc.org
SUMMARY:Home Energy Assistance Outreach/Saugus Senior Center
DESCRIPTION:Come by and see us. Get some information on our programs\, bring your paperwork\, let us walk you through the process!
URL:https://leoinc.org/event/home-energy-assistance-outreach-saugus-senior-center/2023-11-14/
ATTACH;FMTTYPE=image/jpeg:https://leoinc.org/wp-content/uploads/2023/09/CLAIRE-DUBE.jpg
END:VEVENT
BEGIN:VEVENT
DTSTART;TZID=America/New_York:20231115T093000
DTEND;TZID=America/New_York:20231115T113000
DTSTAMP:20260421T130211
CREATED:20231107T214638Z
LAST-MODIFIED:20231107T214638Z
UID:10000080-1700040600-1700047800@leoinc.org
SUMMARY:Home Energy Assistance Outreach/Wakefield Senior Center
DESCRIPTION:Come by and see us. Get some information on our programs\, bring your paperwork\, let us walk you through the process!
URL:https://leoinc.org/event/home-energy-assistance-outreach-wakefield-senior-center/2023-11-15/
ATTACH;FMTTYPE=image/jpeg:https://leoinc.org/wp-content/uploads/2023/09/CLAIRE-DUBE.jpg
END:VEVENT
BEGIN:VEVENT
DTSTART;TZID=America/New_York:20231115T170000
DTEND;TZID=America/New_York:20231115T183000
DTSTAMP:20260421T130211
CREATED:20211119T182540Z
LAST-MODIFIED:20221207T203549Z
UID:10000011-1700067600-1700073000@leoinc.org
SUMMARY:Board of Directors Meeting
DESCRIPTION:Please register with Diann\, diannl@leoinc.org for details on how to join or attend. Thank you!
URL:https://leoinc.org/event/board-of-directors-meeting-15-2023-01-18/2023-11-15/
ATTACH;FMTTYPE=image/jpeg:https://leoinc.org/wp-content/uploads/2021/11/Board-meeting-1080x675-1.jpg
END:VEVENT
BEGIN:VEVENT
DTSTART;TZID=America/New_York:20231127T093000
DTEND;TZID=America/New_York:20231127T113000
DTSTAMP:20260421T130211
CREATED:20231107T212247Z
LAST-MODIFIED:20231107T212359Z
UID:10000077-1701077400-1701084600@leoinc.org
SUMMARY:Home Energy Outreach/Swampscott Senior Center
DESCRIPTION:Come by and see us. Get some information on our programs\, bring your paperwork\, let us walk you through the process!
URL:https://leoinc.org/event/home-energy-outreach-swampscott-senior-center/2023-11-27/
ATTACH;FMTTYPE=image/jpeg:https://leoinc.org/wp-content/uploads/2023/09/CLAIRE-DUBE.jpg
END:VEVENT
BEGIN:VEVENT
DTSTART;TZID=America/New_York:20231128T093000
DTEND;TZID=America/New_York:20231128T113000
DTSTAMP:20260421T130211
CREATED:20231107T203756Z
LAST-MODIFIED:20231107T204542Z
UID:10000072-1701163800-1701171000@leoinc.org
SUMMARY:Home Energy Assistance Outreach/Saugus Senior Center
DESCRIPTION:Come by and see us. Get some information on our programs\, bring your paperwork\, let us walk you through the process!
URL:https://leoinc.org/event/home-energy-assistance-outreach-saugus-senior-center/2023-11-28/
ATTACH;FMTTYPE=image/jpeg:https://leoinc.org/wp-content/uploads/2023/09/CLAIRE-DUBE.jpg
END:VEVENT
BEGIN:VEVENT
DTSTART;TZID=America/New_York:20231129T093000
DTEND;TZID=America/New_York:20231129T113000
DTSTAMP:20260421T130211
CREATED:20231107T214638Z
LAST-MODIFIED:20231107T214638Z
UID:10000081-1701250200-1701257400@leoinc.org
SUMMARY:Home Energy Assistance Outreach/Wakefield Senior Center
DESCRIPTION:Come by and see us. Get some information on our programs\, bring your paperwork\, let us walk you through the process!
URL:https://leoinc.org/event/home-energy-assistance-outreach-wakefield-senior-center/2023-11-29/
ATTACH;FMTTYPE=image/jpeg:https://leoinc.org/wp-content/uploads/2023/09/CLAIRE-DUBE.jpg
END:VEVENT
END:VCALENDAR