BEGIN:VCALENDAR
VERSION:2.0
PRODID:-//LEO Inc. - ECPv6.15.20//NONSGML v1.0//EN
CALSCALE:GREGORIAN
METHOD:PUBLISH
X-WR-CALNAME:LEO Inc.
X-ORIGINAL-URL:https://leoinc.org
X-WR-CALDESC:Events for LEO Inc.
REFRESH-INTERVAL;VALUE=DURATION:PT1H
X-Robots-Tag:noindex
X-PUBLISHED-TTL:PT1H
BEGIN:VTIMEZONE
TZID:America/New_York
BEGIN:DAYLIGHT
TZOFFSETFROM:-0500
TZOFFSETTO:-0400
TZNAME:EDT
DTSTART:20210314T070000
END:DAYLIGHT
BEGIN:STANDARD
TZOFFSETFROM:-0400
TZOFFSETTO:-0500
TZNAME:EST
DTSTART:20211107T060000
END:STANDARD
BEGIN:DAYLIGHT
TZOFFSETFROM:-0500
TZOFFSETTO:-0400
TZNAME:EDT
DTSTART:20220313T070000
END:DAYLIGHT
BEGIN:STANDARD
TZOFFSETFROM:-0400
TZOFFSETTO:-0500
TZNAME:EST
DTSTART:20221106T060000
END:STANDARD
BEGIN:DAYLIGHT
TZOFFSETFROM:-0500
TZOFFSETTO:-0400
TZNAME:EDT
DTSTART:20230312T070000
END:DAYLIGHT
BEGIN:STANDARD
TZOFFSETFROM:-0400
TZOFFSETTO:-0500
TZNAME:EST
DTSTART:20231105T060000
END:STANDARD
END:VTIMEZONE
BEGIN:VEVENT
DTSTART;TZID=America/New_York:20220615T170000
DTEND;TZID=America/New_York:20220615T180000
DTSTAMP:20260422T123412
CREATED:20211119T181011Z
LAST-MODIFIED:20211119T181011Z
UID:10000060-1655312400-1655316000@leoinc.org
SUMMARY:Board of Directors Meeting
DESCRIPTION:This is a Zoom meeting. Please contact Diann\, diannl@leoinc.org for login. Thank you!
URL:https://leoinc.org/event/board-of-directors-meeting-10/
ATTACH;FMTTYPE=image/jpeg:https://leoinc.org/wp-content/uploads/2020/04/LEO_11.21.19-14-1.jpg
END:VEVENT
END:VCALENDAR