BEGIN:VCALENDAR
VERSION:2.0
PRODID:-//LEO Inc. - ECPv6.15.20//NONSGML v1.0//EN
CALSCALE:GREGORIAN
METHOD:PUBLISH
X-WR-CALNAME:LEO Inc.
X-ORIGINAL-URL:https://leoinc.org
X-WR-CALDESC:Events for LEO Inc.
REFRESH-INTERVAL;VALUE=DURATION:PT1H
X-Robots-Tag:noindex
X-PUBLISHED-TTL:PT1H
BEGIN:VTIMEZONE
TZID:America/New_York
BEGIN:DAYLIGHT
TZOFFSETFROM:-0500
TZOFFSETTO:-0400
TZNAME:EDT
DTSTART:20190310T070000
END:DAYLIGHT
BEGIN:STANDARD
TZOFFSETFROM:-0400
TZOFFSETTO:-0500
TZNAME:EST
DTSTART:20191103T060000
END:STANDARD
BEGIN:DAYLIGHT
TZOFFSETFROM:-0500
TZOFFSETTO:-0400
TZNAME:EDT
DTSTART:20200308T070000
END:DAYLIGHT
BEGIN:STANDARD
TZOFFSETFROM:-0400
TZOFFSETTO:-0500
TZNAME:EST
DTSTART:20201101T060000
END:STANDARD
BEGIN:DAYLIGHT
TZOFFSETFROM:-0500
TZOFFSETTO:-0400
TZNAME:EDT
DTSTART:20210314T070000
END:DAYLIGHT
BEGIN:STANDARD
TZOFFSETFROM:-0400
TZOFFSETTO:-0500
TZNAME:EST
DTSTART:20211107T060000
END:STANDARD
END:VTIMEZONE
BEGIN:VEVENT
DTSTART;TZID=America/New_York:20201110T173000
DTEND;TZID=America/New_York:20201110T180000
DTSTAMP:20260424T061300
CREATED:20201104T180656Z
LAST-MODIFIED:20201104T180914Z
UID:10000044-1605029400-1605031200@leoinc.org
SUMMARY:Board of Directors Meeting/ZOOM
DESCRIPTION:Board of Directors SPECIAL Meeting: Tuesday\, November 10th at 5:30 pm for 30 minutes.  It is a zoom meeting. A link will be sent. Thanks!
URL:https://leoinc.org/event/board-of-directors-meeting-zoom/
ATTACH;FMTTYPE=image/jpeg:https://leoinc.org/wp-content/uploads/2020/04/LEO_11.21.19-14-1.jpg
END:VEVENT
BEGIN:VEVENT
DTSTART;TZID=America/New_York:20201118T170000
DTEND;TZID=America/New_York:20201118T190000
DTSTAMP:20260424T061300
CREATED:20200713T171019Z
LAST-MODIFIED:20200714T163344Z
UID:10000013-1605718800-1605726000@leoinc.org
SUMMARY:Board of Directors Meeting
DESCRIPTION:The LEO Board of Directors meets via conference call at 5:00 pm. Contact LEO at 781-309-5619 for specific instructions on how to join the meeting. Thank you!
URL:https://leoinc.org/event/board-of-directors-meeting-11-18-2020/
ATTACH;FMTTYPE=image/jpeg:https://leoinc.org/wp-content/uploads/2020/04/LEO_11.21.19-14-1.jpg
END:VEVENT
END:VCALENDAR