BEGIN:VCALENDAR
VERSION:2.0
PRODID:-//LEO Inc. - ECPv6.15.20//NONSGML v1.0//EN
CALSCALE:GREGORIAN
METHOD:PUBLISH
X-WR-CALNAME:LEO Inc.
X-ORIGINAL-URL:https://leoinc.org
X-WR-CALDESC:Events for LEO Inc.
REFRESH-INTERVAL;VALUE=DURATION:PT1H
X-Robots-Tag:noindex
X-PUBLISHED-TTL:PT1H
BEGIN:VTIMEZONE
TZID:America/New_York
BEGIN:DAYLIGHT
TZOFFSETFROM:-0500
TZOFFSETTO:-0400
TZNAME:EDT
DTSTART:20170312T070000
END:DAYLIGHT
BEGIN:STANDARD
TZOFFSETFROM:-0400
TZOFFSETTO:-0500
TZNAME:EST
DTSTART:20171105T060000
END:STANDARD
BEGIN:DAYLIGHT
TZOFFSETFROM:-0500
TZOFFSETTO:-0400
TZNAME:EDT
DTSTART:20180311T070000
END:DAYLIGHT
BEGIN:STANDARD
TZOFFSETFROM:-0400
TZOFFSETTO:-0500
TZNAME:EST
DTSTART:20181104T060000
END:STANDARD
BEGIN:DAYLIGHT
TZOFFSETFROM:-0500
TZOFFSETTO:-0400
TZNAME:EDT
DTSTART:20190310T070000
END:DAYLIGHT
BEGIN:STANDARD
TZOFFSETFROM:-0400
TZOFFSETTO:-0500
TZNAME:EST
DTSTART:20191103T060000
END:STANDARD
END:VTIMEZONE
BEGIN:VEVENT
DTSTART;VALUE=DATE:20180417
DTEND;VALUE=DATE:20180418
DTSTAMP:20260421T191630
CREATED:20190519T162521Z
LAST-MODIFIED:20190930T180145Z
UID:10000057-1523923200-1524009599@leoinc.org
SUMMARY:Mother's Day 2018
DESCRIPTION:April 17\, 2018 \nIt was a new idea for LEO\, and we had no idea how well it would be received. We expected about fifty Mom’s with children\, we got more than double this response. We needed two photographers to capture everything\, and in a tight window of time. Thank you to the very talented photographers; Anna Wistran Wolfe and Alison Ebacher. Family portraits can be expensive\, providing this to our families without charge was a gift to all involved. These images are all so beautiful.
URL:https://leoinc.org/event/mothers-day-2018/
LOCATION:MA
ATTACH;FMTTYPE=image/jpeg:https://leoinc.org/wp-content/uploads/2019/08/MOTHERS-DAY-3.jpg
END:VEVENT
END:VCALENDAR